BEGIN:VCALENDAR
VERSION:2.0
PRODID:-//Parayana Vihara - ECPv6.15.20//NONSGML v1.0//EN
CALSCALE:GREGORIAN
METHOD:PUBLISH
X-ORIGINAL-URL:https://parayanavihara.org
X-WR-CALDESC:Events for Parayana Vihara
REFRESH-INTERVAL;VALUE=DURATION:PT1H
X-Robots-Tag:noindex
X-PUBLISHED-TTL:PT1H
BEGIN:VTIMEZONE
TZID:America/Chicago
BEGIN:DAYLIGHT
TZOFFSETFROM:-0600
TZOFFSETTO:-0500
TZNAME:CDT
DTSTART:20240310T080000
END:DAYLIGHT
BEGIN:STANDARD
TZOFFSETFROM:-0500
TZOFFSETTO:-0600
TZNAME:CST
DTSTART:20241103T070000
END:STANDARD
BEGIN:DAYLIGHT
TZOFFSETFROM:-0600
TZOFFSETTO:-0500
TZNAME:CDT
DTSTART:20250309T080000
END:DAYLIGHT
BEGIN:STANDARD
TZOFFSETFROM:-0500
TZOFFSETTO:-0600
TZNAME:CST
DTSTART:20251102T070000
END:STANDARD
BEGIN:DAYLIGHT
TZOFFSETFROM:-0600
TZOFFSETTO:-0500
TZNAME:CDT
DTSTART:20260308T080000
END:DAYLIGHT
BEGIN:STANDARD
TZOFFSETFROM:-0500
TZOFFSETTO:-0600
TZNAME:CST
DTSTART:20261101T070000
END:STANDARD
END:VTIMEZONE
BEGIN:VEVENT
DTSTART;VALUE=DATE:20250617
DTEND;VALUE=DATE:20250624
DTSTAMP:20260421T075947
CREATED:20250122T233502Z
LAST-MODIFIED:20250207T190805Z
UID:2814-1750118400-1750723199@parayanavihara.org
SUMMARY:Chanting\, Joy\, and the Seven Factors of Awakening
DESCRIPTION:Teacher: Ayya Ānandabodhī
URL:https://parayanavihara.org/event/chanting-joy-and-the-seven-factors-of-awakening/
LOCATION:Barre Center for Buddhist Studies\, 149 Lockwood Road\, Barre\, MA\, 01005
CATEGORIES:Retreats
ATTACH;FMTTYPE=image/jpeg:https://parayanavihara.org/wp-content/uploads/2025/01/MG_2768-scaled-e1738948076341.jpeg
END:VEVENT
END:VCALENDAR