BEGIN:VCALENDAR
VERSION:2.0
PRODID:-//Parayana Vihara - ECPv6.15.20//NONSGML v1.0//EN
CALSCALE:GREGORIAN
METHOD:PUBLISH
X-ORIGINAL-URL:https://parayanavihara.org
X-WR-CALDESC:Events for Parayana Vihara
REFRESH-INTERVAL;VALUE=DURATION:PT1H
X-Robots-Tag:noindex
X-PUBLISHED-TTL:PT1H
BEGIN:VTIMEZONE
TZID:America/Los_Angeles
BEGIN:DAYLIGHT
TZOFFSETFROM:-0800
TZOFFSETTO:-0700
TZNAME:PDT
DTSTART:20240310T100000
END:DAYLIGHT
BEGIN:STANDARD
TZOFFSETFROM:-0700
TZOFFSETTO:-0800
TZNAME:PST
DTSTART:20241103T090000
END:STANDARD
BEGIN:DAYLIGHT
TZOFFSETFROM:-0800
TZOFFSETTO:-0700
TZNAME:PDT
DTSTART:20250309T100000
END:DAYLIGHT
BEGIN:STANDARD
TZOFFSETFROM:-0700
TZOFFSETTO:-0800
TZNAME:PST
DTSTART:20251102T090000
END:STANDARD
BEGIN:DAYLIGHT
TZOFFSETFROM:-0800
TZOFFSETTO:-0700
TZNAME:PDT
DTSTART:20260308T100000
END:DAYLIGHT
BEGIN:STANDARD
TZOFFSETFROM:-0700
TZOFFSETTO:-0800
TZNAME:PST
DTSTART:20261101T090000
END:STANDARD
END:VTIMEZONE
BEGIN:VEVENT
DTSTART;TZID=America/Los_Angeles:20250706T103000
DTEND;TZID=America/Los_Angeles:20250706T150000
DTSTAMP:20260421T040517
CREATED:20250511T233404Z
LAST-MODIFIED:20250620T210439Z
UID:4415-1751797800-1751814000@parayanavihara.org
SUMMARY:Sunday at the Vihara
DESCRIPTION:All are welcome to join a collective meal offering and/or Dhamma program. It is helpful if you RSVP here for the meal. \nSchedule:\n10:30 am: Vihara opens\, arrive with dish to share before meal time\n11:00 am: Meal offering to the monastics followed by pot-luck\, then clean-up\n12:00 pm: Tea and visiting. All are welcome to arrive\, leave\, or stay during this time\n1:00 pm: Dhamma program including chanting\, meditation\, Dhamma and sharing\n3:00 pm: Vihara closes \nWe are located at 1442 Gise St in Port Townsend. Please be considerate of our neighbors and others when parking. Street parking is available for about 4 cars at the vihara. Additional street parking is available on surrounding streets and the Haines Place Park & Ride is a short walk away. \nThe teachings are freely given. If you would like to offer dana\, there is a dana basket at the vihāra or you may offer online at our donation page.
URL:https://parayanavihara.org/event/sunday-at-the-vihara-12/
LOCATION:Parayana Vihara
CATEGORIES:In Person,Sundays in PT
ATTACH;FMTTYPE=image/jpeg:https://parayanavihara.org/wp-content/uploads/2025/01/20240522_135922-scaled.jpg
END:VEVENT
BEGIN:VEVENT
DTSTART;TZID=America/Los_Angeles:20250713T103000
DTEND;TZID=America/Los_Angeles:20250713T150000
DTSTAMP:20260421T040517
CREATED:20250511T233739Z
LAST-MODIFIED:20250620T210259Z
UID:4423-1752402600-1752418800@parayanavihara.org
SUMMARY:Sunday at the Vihara
DESCRIPTION:All are welcome to join a collective meal offering and/or Dhamma program. It is helpful if you RSVP here for the meal. \nSchedule:\n10:30 am: Vihara opens\, arrive with dish to share before meal time\n11:00 am: Meal offering to the monastics followed by pot-luck\, then clean-up\n12:00 pm: Tea and visiting. All are welcome to arrive\, leave\, or stay during this time\n1:00 pm: Dhamma program including chanting\, meditation\, Dhamma and sharing\n3:00 pm: Vihara closes \nWe are located at 1442 Gise St in Port Townsend. Please be considerate of our neighbors and others when parking. Street parking is available for about 4 cars at the vihara. Additional street parking is available on surrounding streets and the Haines Place Park & Ride is a short walk away. \nThe teachings are freely given. If you would like to offer dana\, there is a dana basket at the vihāra or you may offer online at our donation page.
URL:https://parayanavihara.org/event/sunday-at-the-vihara-13/
LOCATION:Parayana Vihara
CATEGORIES:In Person,Sundays in PT
ATTACH;FMTTYPE=image/jpeg:https://parayanavihara.org/wp-content/uploads/2025/01/20240522_135922-scaled.jpg
END:VEVENT
BEGIN:VEVENT
DTSTART;TZID=America/Los_Angeles:20250716T183000
DTEND;TZID=America/Los_Angeles:20250716T194500
DTSTAMP:20260421T040517
CREATED:20250707T214640Z
LAST-MODIFIED:20250709T163221Z
UID:4537-1752690600-1752695100@parayanavihara.org
SUMMARY:Wednesday Evening Puja
DESCRIPTION:Join the Pārāyana Vihāra community for our regular evening practice of meditation and chanting. \nPuja begins at 6:30 pm. Please arrive a few minutes early and set up your seat. There are a variety of mats\, cushions\, chairs\, and meditation benches for your use. We will begin with chanting\, meditate together in silence\, and close by sharing the merits of our practice. \nThe library is also open beginning at 4:00 pm on Wednesdays and you are welcome to stay until puja. We enter noble silence for the evening at the close of puja.
URL:https://parayanavihara.org/event/evening-puja/
LOCATION:Parayana Vihara
CATEGORIES:In Person
ATTACH;FMTTYPE=image/jpeg:https://parayanavihara.org/wp-content/uploads/2025/02/25.-HomageJPG-scaled.jpg
END:VEVENT
BEGIN:VEVENT
DTSTART;TZID=America/Los_Angeles:20250720T103000
DTEND;TZID=America/Los_Angeles:20250720T150000
DTSTAMP:20260421T040517
CREATED:20250511T233812Z
LAST-MODIFIED:20250627T231255Z
UID:4422-1753007400-1753023600@parayanavihara.org
SUMMARY:Sunday at the Vihara
DESCRIPTION:All are welcome to join a collective meal offering and/or Dhamma program. It is helpful if you RSVP here for the meal (available 3 weeks in advance). \nSchedule:\n10:30 am: Vihara opens\, arrive with dish to share before meal time\n11:00 am: Meal offering to the monastics followed by pot-luck\, then clean-up\n12:00 pm: Tea and visiting. All are welcome to arrive\, leave\, or stay during this time\n1:00 pm: Dhamma program including chanting\, meditation\, Dhamma and sharing\n3:00 pm: Vihara closes \nWe are located at 1442 Gise St in Port Townsend. Please be considerate of our neighbors and others when parking. Street parking is available for about 4 cars at the vihara. Additional street parking is available on surrounding streets and the Haines Place Park & Ride is a short walk away. \nThe teachings are freely given. If you would like to offer dana\, there is a dana basket at the vihāra or you may offer online at our donation page.
URL:https://parayanavihara.org/event/sunday-at-the-vihara-14/
LOCATION:Parayana Vihara
CATEGORIES:In Person,Sundays in PT
ATTACH;FMTTYPE=image/jpeg:https://parayanavihara.org/wp-content/uploads/2025/01/20240522_135922-scaled.jpg
END:VEVENT
BEGIN:VEVENT
DTSTART;TZID=America/Los_Angeles:20250723T183000
DTEND;TZID=America/Los_Angeles:20250723T194500
DTSTAMP:20260421T040517
CREATED:20250707T231259Z
LAST-MODIFIED:20250709T163814Z
UID:4546-1753295400-1753299900@parayanavihara.org
SUMMARY:Wednesday Evening Puja
DESCRIPTION:Join the Pārāyana Vihāra community for our regular evening practice of meditation and chanting. \nPuja begins at 6:30 pm. Please arrive a few minutes early and set up your seat. There are a variety of mats\, cushions\, chairs\, and meditation benches for your use. We will begin with chanting\, meditate together in silence\, and close by sharing the merits of our practice. \nThe library is also open beginning at 4:00 pm on Wednesdays and you are welcome to stay until puja. We enter noble silence for the evening at the close of puja.
URL:https://parayanavihara.org/event/evening-puja-2/
LOCATION:Parayana Vihara
CATEGORIES:In Person
ATTACH;FMTTYPE=image/jpeg:https://parayanavihara.org/wp-content/uploads/2025/02/25.-HomageJPG-scaled.jpg
END:VEVENT
END:VCALENDAR