BEGIN:VCALENDAR
VERSION:2.0
PRODID:-//Parayana Vihara - ECPv6.15.20//NONSGML v1.0//EN
CALSCALE:GREGORIAN
METHOD:PUBLISH
X-ORIGINAL-URL:https://parayanavihara.org
X-WR-CALDESC:Events for Parayana Vihara
REFRESH-INTERVAL;VALUE=DURATION:PT1H
X-Robots-Tag:noindex
X-PUBLISHED-TTL:PT1H
BEGIN:VTIMEZONE
TZID:America/Los_Angeles
BEGIN:DAYLIGHT
TZOFFSETFROM:-0800
TZOFFSETTO:-0700
TZNAME:PDT
DTSTART:20240310T100000
END:DAYLIGHT
BEGIN:STANDARD
TZOFFSETFROM:-0700
TZOFFSETTO:-0800
TZNAME:PST
DTSTART:20241103T090000
END:STANDARD
BEGIN:DAYLIGHT
TZOFFSETFROM:-0800
TZOFFSETTO:-0700
TZNAME:PDT
DTSTART:20250309T100000
END:DAYLIGHT
BEGIN:STANDARD
TZOFFSETFROM:-0700
TZOFFSETTO:-0800
TZNAME:PST
DTSTART:20251102T090000
END:STANDARD
BEGIN:DAYLIGHT
TZOFFSETFROM:-0800
TZOFFSETTO:-0700
TZNAME:PDT
DTSTART:20260308T100000
END:DAYLIGHT
BEGIN:STANDARD
TZOFFSETFROM:-0700
TZOFFSETTO:-0800
TZNAME:PST
DTSTART:20261101T090000
END:STANDARD
END:VTIMEZONE
BEGIN:VEVENT
DTSTART;TZID=America/Los_Angeles:20250209T130000
DTEND;TZID=America/Los_Angeles:20250209T150000
DTSTAMP:20260421T104846
CREATED:20250119T035852Z
LAST-MODIFIED:20250124T201526Z
UID:2738-1739106000-1739113200@parayanavihara.org
SUMMARY:Sunday at the Vihara
DESCRIPTION:During February and March\, we will be in Noble Silence. We invite you to join us for the afternoon Dhamma program: \nSchedule:\n12:45 pm: Vihara opens\n1:00 pm – 2:30 pm: Dhamma program including chanting\, meditation\, Dhamma and sharing\n3:00 pm: Vihara closes \nWe are located at 1442 Gise St in Port Townsend. Please be considerate of our neighbors and others when parking. Street parking is available for about 4 cars at the vihara. Additional street parking is available on surrounding streets and the Haines Place Park & Ride is a short walk away. \nThe teachings are freely given. If you would like to offer dana\, there is a dana basket at the vihāra or you may offer online at our donation page.
URL:https://parayanavihara.org/event/sunday-at-the-vihara/
LOCATION:Parayana Vihara
CATEGORIES:In Person,Sundays in PT
ATTACH;FMTTYPE=image/jpeg:https://parayanavihara.org/wp-content/uploads/2025/01/20240522_135922-scaled.jpg
END:VEVENT
BEGIN:VEVENT
DTSTART;TZID=America/Los_Angeles:20250216T090000
DTEND;TZID=America/Los_Angeles:20250216T160000
DTSTAMP:20260421T104846
CREATED:20250122T232051Z
LAST-MODIFIED:20250129T015748Z
UID:2803-1739696400-1739721600@parayanavihara.org
SUMMARY:Winter Day of Practice: Deepening into the Sound of Silence
DESCRIPTION:Winter invites a natural deepening into silence. We welcome you to join us in Port Townsend for a day of meditation and Dhamma reflection.\n\n\n\n\n\n\n\n\n  \nThese days of practice will be held in Noble Silence. Ayya Anandabodhi will be offering guided meditations\, Dhamma reflections and Q&A. There will be times of silent practice as well as guided practice\, times of stillness\, as well as movement. \n\n\n\n\n\n\n\n\n\n\n\n\n\n\n\n\nRegister here. More detailed information will be provided upon registration. \nThe Dhamma is priceless and these days of practice are freely offered.\nDonations to support the monastics and those providing the venue are greatly appreciated.\nThere will be a donations basket at the event and donations can also be made online.
URL:https://parayanavihara.org/event/winter-day-of-practice-deepening-into-the-sound-of-silence/
CATEGORIES:In Person
ATTACH;FMTTYPE=image/jpeg:https://parayanavihara.org/wp-content/uploads/2025/01/DSC_3726.jpg
END:VEVENT
END:VCALENDAR